BEGIN:VCALENDAR
VERSION:2.0
PRODID:-//Tukios.com/
BEGIN:VEVENT
UID:77436ce9-3061-401e-9d92-d951036e90ca@www.eidsnessfuneralhome.com
DTSTAMP:20260424T193733Z
DTSTART:20260502T180000Z
DTEND:20260502T190000Z
SUMMARY:Memorial Service
DESCRIPTION:
URL:https://www.eidsnessfuneralhome.com/obituaries/paul-sanders
LOCATION:Ascension Lutheran Church 2020 3rd Street  Brookings SD 57006
GEO:44.3073273;-96.770163
END:VEVENT
END:VCALENDAR