BEGIN:VCALENDAR
VERSION:2.0
PRODID:-//Tukios.com/
BEGIN:VEVENT
UID:dce3fd91-fe26-4ab8-a9bd-eb08bc037025@www.eidsnessfuneralhome.com
DTSTAMP:20260421T021833Z
DTSTART:20260502T183000Z
DTEND:20260502T193000Z
SUMMARY:Interment
DESCRIPTION:
URL:https://www.eidsnessfuneralhome.com/obituaries/harold-poppen
LOCATION:Castlewood Cemetery 411 Cemetery Rd E  Castlewood SD 57223
GEO:44.7155114;-97.0216191
END:VEVENT
END:VCALENDAR