BEGIN:VCALENDAR
VERSION:2.0
PRODID:-//Tukios.com/
BEGIN:VEVENT
UID:0cc933f9-a8bb-4f49-b3a4-73dbd55c752a@www.eidsnessfuneralhome.com
DTSTAMP:20260421T022046Z
DTSTART:20260502T160000Z
DTEND:20260502T170000Z
SUMMARY:Funeral Service
DESCRIPTION:
URL:https://www.eidsnessfuneralhome.com/obituaries/harold-poppen
LOCATION: 1617 Orchard Dr  Brookings SD 57006
GEO:44.30197;-96.7776195
END:VEVENT
END:VCALENDAR