BEGIN:VCALENDAR
VERSION:2.0
PRODID:-//Tukios.com/
BEGIN:VEVENT
UID:c7003d07-2c22-4dec-86a9-c2e75d75ec4e@www.eidsnessfuneralhome.com
DTSTAMP:20260421T022000Z
DTSTART:20260502T150000Z
DTEND:20260502T160000Z
SUMMARY:Visitation
DESCRIPTION:
URL:https://www.eidsnessfuneralhome.com/obituaries/harold-poppen
LOCATION: 1617 Orchard Dr  Brookings SD 57006
GEO:44.30197;-96.7776195
END:VEVENT
END:VCALENDAR